BEGIN:VCALENDAR
VERSION:2.0
PRODID:-//Movendus - ECPv6.0.11//NONSGML v1.0//EN
CALSCALE:GREGORIAN
METHOD:PUBLISH
X-ORIGINAL-URL:https://www.movendus.pl
X-WR-CALDESC:Wydarzenia dla Movendus
REFRESH-INTERVAL;VALUE=DURATION:PT1H
X-Robots-Tag:noindex
X-PUBLISHED-TTL:PT1H
BEGIN:VTIMEZONE
TZID:Europe/Paris
BEGIN:DAYLIGHT
TZOFFSETFROM:+0100
TZOFFSETTO:+0200
TZNAME:CEST
DTSTART:20200329T010000
END:DAYLIGHT
BEGIN:STANDARD
TZOFFSETFROM:+0200
TZOFFSETTO:+0100
TZNAME:CET
DTSTART:20201025T010000
END:STANDARD
END:VTIMEZONE
BEGIN:VEVENT
DTSTART;VALUE=DATE:20200605
DTEND;VALUE=DATE:20200606
DTSTAMP:20260424T175253
CREATED:20200530T091258Z
LAST-MODIFIED:20200530T091335Z
UID:9771-1591315200-1591401599@www.movendus.pl
SUMMARY:Drive it Day 2020
DESCRIPTION:Polski Związek Motorowy wraca do idei Drive it Day. Na 5 czerwca zaplanowano siódmą edycję polskiego Drive it Day czyli dnia jeżdżenia klasykiem. Tego dnia wszyscy właściciele zabytkowych pojazdów wyjeżdżają nimi na drogi i starają się je używać jak zwykłe pojazdy. \nAktualna sytuacja sprzyja takim inicjatywom. Skoro rajdy i zloty są odwoływane jeden po drugim\, warto powrócić do organizowania Drive it Day. W Polsce dzień jeżdżenia zabytkiem zawsze odbywał się w pierwszym tygodniu czerwca. PZM i jego partnerzy postanowili wrócić do tej tradycji i w tym roku DiD odbędzie się w piątek 5 czerwca. \nWięcej informacji na Movendusie\, Facebooku lub PZM.
URL:https://www.movendus.pl/events/drive-it-day-2020/
LOCATION:Polska\, Polska
END:VEVENT
BEGIN:VEVENT
DTSTART;VALUE=DATE:20200605
DTEND;VALUE=DATE:20200606
DTSTAMP:20260424T175253
CREATED:20200603T051413Z
LAST-MODIFIED:20200603T051413Z
UID:10077-1591315200-1591401599@www.movendus.pl
SUMMARY:Drive it Day - fotokruz z Movendusem
DESCRIPTION:Jeśli 5 czerwca będziesz się kręcił po Warszawie w ramach Drive it Day\, podjedź na PKP Warszawa Powiśle i al. Na Skarpie\, a Movendus\, Minimalna produkcja i Girls classic zrobią zdjęcia tobie i twojemu pojazdowi. \nPo 20.00 z al. Na Skarpie Ci co chcą i stosują dwumetrowy dystans społeczny mogą się z nami spotkać\, a potem być może ruszymy na wspólny przejazd po mieście. \nNasze punkty:\n– Rafał Andrzejewski (Movendus) i Artur Perzanowski (Minimalna Produkcja) będą na Was czekać w okolicy PKP Warszawa Powiśle od ok. 18.30. Warto pokręcić się wokół miejsca\, bo fotografowie będą atakować z różnych miejsc.\nPunkt będzie czynny do ok. 20.00. \n– Na al. Na skarpie ustawi się Michał Leśniewski. Punkt będzie czynny od godziny 18.30 do 20.00. \nMiędzy tymi punktami będzie się kręcić Julia Hebdzyńska z Girls classic i Piotrek Skowron z Movendusa\, którzy będą Wam robić foty w ruchu. \nMapka z punktami:\nhttps://www.google.com/maps/d/drive?state=%7B%22ids%22%3A%5B%221-T66dvFb03xekrzgV0il1-SfKvWqyMLD%22%5D%2C%22action%22%3A%22open%22%2C%22userId%22%3A%22115588865850876890749%22%7D&usp=sharing \nPo godzinie 20.00 spotykamy się na al. Na Skarpie (stosując odpowiedni dystans społeczny) i być może ruszymy gdzieś na wspólny przejazd. \nSzczegóły. 
URL:https://www.movendus.pl/events/drive-it-day-fotokruz-z-movendusem/
LOCATION:Warszawa – al. Na Skarpie\, al. Na Skarpie\, Warszawa\, Poland
END:VEVENT
END:VCALENDAR